BEGIN:VCALENDAR
VERSION:2.0
PRODID:-//Insubrica Historica - ECPv6.15.20//NONSGML v1.0//EN
CALSCALE:GREGORIAN
METHOD:PUBLISH
X-WR-CALNAME:Insubrica Historica
X-ORIGINAL-URL:https://insubricahistorica.ch
X-WR-CALDESC:Events for Insubrica Historica
REFRESH-INTERVAL;VALUE=DURATION:PT1H
X-Robots-Tag:noindex
X-PUBLISHED-TTL:PT1H
BEGIN:VTIMEZONE
TZID:Europe/Paris
BEGIN:DAYLIGHT
TZOFFSETFROM:+0100
TZOFFSETTO:+0200
TZNAME:CEST
DTSTART:20180325T010000
END:DAYLIGHT
BEGIN:STANDARD
TZOFFSETFROM:+0200
TZOFFSETTO:+0100
TZNAME:CET
DTSTART:20181028T010000
END:STANDARD
BEGIN:DAYLIGHT
TZOFFSETFROM:+0100
TZOFFSETTO:+0200
TZNAME:CEST
DTSTART:20190331T010000
END:DAYLIGHT
BEGIN:STANDARD
TZOFFSETFROM:+0200
TZOFFSETTO:+0100
TZNAME:CET
DTSTART:20191027T010000
END:STANDARD
BEGIN:DAYLIGHT
TZOFFSETFROM:+0100
TZOFFSETTO:+0200
TZNAME:CEST
DTSTART:20200329T010000
END:DAYLIGHT
BEGIN:STANDARD
TZOFFSETFROM:+0200
TZOFFSETTO:+0100
TZNAME:CET
DTSTART:20201025T010000
END:STANDARD
END:VTIMEZONE
BEGIN:VEVENT
DTSTART;TZID=Europe/Paris:20191018T210000
DTEND;TZID=Europe/Paris:20191018T230000
DTSTAMP:20260422T200152
CREATED:20190517T183910Z
LAST-MODIFIED:20190517T183910Z
UID:6127-1571432400-1571439600@insubricahistorica.ch
SUMMARY:Conference: I rastrellamenti tedeschi nel piemonte 1943-1945. Villa Schneider\, Biella 18.10.2019/21h00
DESCRIPTION:Willy Tensfeld’s Bandenbekämpfungsstab West headquartered in Monza/Milan was responsible from November 1943 till April 1945 for most of the German and Fascist raids conducted in the Piedmont region. There were about 50 round-ups\, alone in 1944 more than 45\, which were designed by this particular General Staff. Under the operational direction of several commanders of the SS-Polizei such as colonel Ludwig Buch or leutnant-colonel Ernst Weis\, these raids put a strain on partisan operations in the Piedmont region. This presentation retraces\, mainly using unpublished images and documents\, the major raking that took place in the Biella area.
URL:https://insubricahistorica.ch/events/conference-i-rastrellamenti-tedeschi-nel-piemonte-1943-1945-sala-biellese-18-10-2019-21h00/
LOCATION:Villa Schneider\, Biella\, Piazza A. Lamormora 6\, Biella\, Biella\, Italy
ATTACH;FMTTYPE=:
ORGANIZER;CN="Casa della Resistenza%2C Sala Biellese":MAILTO:museoresistenzasala@gmail.com
END:VEVENT
END:VCALENDAR