BEGIN:VCALENDAR
VERSION:2.0
PRODID:-//Insubrica Historica - ECPv6.15.20//NONSGML v1.0//EN
CALSCALE:GREGORIAN
METHOD:PUBLISH
X-WR-CALNAME:Insubrica Historica
X-ORIGINAL-URL:https://insubricahistorica.ch
X-WR-CALDESC:Events for Insubrica Historica
REFRESH-INTERVAL;VALUE=DURATION:PT1H
X-Robots-Tag:noindex
X-PUBLISHED-TTL:PT1H
BEGIN:VTIMEZONE
TZID:Europe/Paris
BEGIN:DAYLIGHT
TZOFFSETFROM:+0100
TZOFFSETTO:+0200
TZNAME:CEST
DTSTART:20180325T010000
END:DAYLIGHT
BEGIN:STANDARD
TZOFFSETFROM:+0200
TZOFFSETTO:+0100
TZNAME:CET
DTSTART:20181028T010000
END:STANDARD
BEGIN:DAYLIGHT
TZOFFSETFROM:+0100
TZOFFSETTO:+0200
TZNAME:CEST
DTSTART:20190331T010000
END:DAYLIGHT
BEGIN:STANDARD
TZOFFSETFROM:+0200
TZOFFSETTO:+0100
TZNAME:CET
DTSTART:20191027T010000
END:STANDARD
BEGIN:DAYLIGHT
TZOFFSETFROM:+0100
TZOFFSETTO:+0200
TZNAME:CEST
DTSTART:20200329T010000
END:DAYLIGHT
BEGIN:STANDARD
TZOFFSETFROM:+0200
TZOFFSETTO:+0100
TZNAME:CET
DTSTART:20201025T010000
END:STANDARD
END:VTIMEZONE
BEGIN:VEVENT
DTSTART;TZID=Europe/Paris:20190927T181500
DTEND;TZID=Europe/Paris:20190927T193000
DTSTAMP:20260422T180534
CREATED:20190416T141448Z
LAST-MODIFIED:20190416T141448Z
UID:6093-1569608100-1569612600@insubricahistorica.ch
SUMMARY:Conference: Il Locarnese e la Zona libera partigiana dell’Ossola - 75° anniversario (1944-2019)  Locarno 27.9.2019/18h15
DESCRIPTION:During September 1944\, politically heterogeneous partisan forces were able to create a so-called Ossola Partisan Republic in the Ossola region\, this starting from September 10\, 1944. Technically and more correctly\, it was a free partisan zone\, which stretched from the Simplon up to the eastern shore of Lake Maggiore. For almost 30 days the partisan forces managed to organize a real government\, giving themselves a well-defined political identity in a Northern Italy still controlled by the Germans and under the political administration of the fascist Social Republic (Repubblica Sociale Italiana) of Salò. After 30 days from October 12\, 1944\, German and fascist forces penetrated the region from two main fronts: one from Cannobio and a second more important front from Fondotoce. There were bitter fights\, which led to the death of charismatic partisan commanders\, such as Alfredo DiDio and Attilio Moneta in Finero – Valle Cannobina. After five days from the start of the offensive the German and fascist troops entered the desert capital of Domodossola\, by then almost entirely a ghost town as much of the local population had flew to the nearby Swiss Cantons\, of Wallis and Ticino. This conference takes place as part of the celebrations for the 75th anniversary (1944-2019) of this first democratic experiment in a Northern Italy then still for a few months till April 1945\, fascist. The conference will be focused on the Locarnese population contribution for this extreme important democratic experiment. Participating in the evening\, will be Prof. Pier-Antonio Ragozza of Premosello-Domodossola and Dr. Marino Viganò\, historian and specialist of the period 1943-1945. The specific program of the evening will be prepared in the coming months. The evening is free.
URL:https://insubricahistorica.ch/events/conference-il-locarnese-e-la-zona-libera-partigiana-dellossola-75-anniversario-1944-2019-locarno-27-9-2019-18h15/
LOCATION:Biblioteca Cantonale Locarno\, Via Capuccini 12\, Locarno\, Ticino\, 6600\, Switzerland
ATTACH;FMTTYPE=:
ORGANIZER;CN="Insubrica Historica":MAILTO:info@insubricahistorica.ch
END:VEVENT
END:VCALENDAR