BEGIN:VCALENDAR
VERSION:2.0
PRODID:-//Insubrica Historica - ECPv6.15.20//NONSGML v1.0//EN
CALSCALE:GREGORIAN
METHOD:PUBLISH
X-WR-CALNAME:Insubrica Historica
X-ORIGINAL-URL:https://insubricahistorica.ch
X-WR-CALDESC:Events for Insubrica Historica
REFRESH-INTERVAL;VALUE=DURATION:PT1H
X-Robots-Tag:noindex
X-PUBLISHED-TTL:PT1H
BEGIN:VTIMEZONE
TZID:Europe/Paris
BEGIN:DAYLIGHT
TZOFFSETFROM:+0100
TZOFFSETTO:+0200
TZNAME:CEST
DTSTART:20180325T010000
END:DAYLIGHT
BEGIN:STANDARD
TZOFFSETFROM:+0200
TZOFFSETTO:+0100
TZNAME:CET
DTSTART:20181028T010000
END:STANDARD
BEGIN:DAYLIGHT
TZOFFSETFROM:+0100
TZOFFSETTO:+0200
TZNAME:CEST
DTSTART:20190331T010000
END:DAYLIGHT
BEGIN:STANDARD
TZOFFSETFROM:+0200
TZOFFSETTO:+0100
TZNAME:CET
DTSTART:20191027T010000
END:STANDARD
BEGIN:DAYLIGHT
TZOFFSETFROM:+0100
TZOFFSETTO:+0200
TZNAME:CEST
DTSTART:20200329T010000
END:DAYLIGHT
BEGIN:STANDARD
TZOFFSETFROM:+0200
TZOFFSETTO:+0100
TZNAME:CET
DTSTART:20201025T010000
END:STANDARD
END:VTIMEZONE
BEGIN:VEVENT
DTSTART;TZID=Europe/Paris:20190906T090000
DTEND;TZID=Europe/Paris:20190906T170000
DTSTAMP:20260422T191907
CREATED:20190517T182421Z
LAST-MODIFIED:20190517T182421Z
UID:6118-1567760400-1567789200@insubricahistorica.ch
SUMMARY:Conference: Meina-Lesa-Baveno nel periodo 1943-1945. Analisi delle attività tedesche e fasciste nella zona. Baveno 6.9.19/21h00
DESCRIPTION:The lower region of lake Maggiore was markedly affected by the war events during the time span 1943-1945. We will will present in this conference\, held at the Biblioteca Civica di Baveno\, the analysis of the German and Fascists operations in this region. After a brief historical introduction by Dr. Gianni Galli\, the conference will introduce the major German and Fascists protagonists. Beside Leibstandarte Adolf Hitler\, the Marine Einsatz Kommando 80 there will be exclusive pictures and historical details on the activities of the SS-Polizei in Baveno. The presentation will highlight the less known figure of Hauptmann Ludwig Stamm\, responsible of this unit in Baveno. Special attention will also be given in portraying the activities of the Italian Fascists units.
URL:https://insubricahistorica.ch/events/conference-meina-lesa-baveno-nel-periodo-1943-1945-analisi-delle-attivita-tedesche-e-fasciste-nella-zona-baveno-6-9-19-21h00/
LOCATION:Biblioteca Civica di Baveno\, P.zza della Chiesa\, 8 28831 Baveno\, P.zza della Chiesa\, 8\, Baveno\, VB\, 28831\, Italy
ATTACH;FMTTYPE=:
END:VEVENT
END:VCALENDAR