BEGIN:VCALENDAR
VERSION:2.0
PRODID:-//Insubrica Historica - ECPv6.15.20//NONSGML v1.0//EN
CALSCALE:GREGORIAN
METHOD:PUBLISH
X-WR-CALNAME:Insubrica Historica
X-ORIGINAL-URL:https://insubricahistorica.ch
X-WR-CALDESC:Events for Insubrica Historica
REFRESH-INTERVAL;VALUE=DURATION:PT1H
X-Robots-Tag:noindex
X-PUBLISHED-TTL:PT1H
BEGIN:VTIMEZONE
TZID:Europe/Paris
BEGIN:DAYLIGHT
TZOFFSETFROM:+0100
TZOFFSETTO:+0200
TZNAME:CEST
DTSTART:20240331T010000
END:DAYLIGHT
BEGIN:STANDARD
TZOFFSETFROM:+0200
TZOFFSETTO:+0100
TZNAME:CET
DTSTART:20241027T010000
END:STANDARD
BEGIN:DAYLIGHT
TZOFFSETFROM:+0100
TZOFFSETTO:+0200
TZNAME:CEST
DTSTART:20250330T010000
END:DAYLIGHT
BEGIN:STANDARD
TZOFFSETFROM:+0200
TZOFFSETTO:+0100
TZNAME:CET
DTSTART:20251026T010000
END:STANDARD
BEGIN:DAYLIGHT
TZOFFSETFROM:+0100
TZOFFSETTO:+0200
TZNAME:CEST
DTSTART:20260329T010000
END:DAYLIGHT
BEGIN:STANDARD
TZOFFSETFROM:+0200
TZOFFSETTO:+0100
TZNAME:CET
DTSTART:20261025T010000
END:STANDARD
END:VTIMEZONE
BEGIN:VEVENT
DTSTART;TZID=Europe/Paris:20250613T173000
DTEND;TZID=Europe/Paris:20250613T183000
DTSTAMP:20260425T182548
CREATED:20250601T072928Z
LAST-MODIFIED:20250812T034939Z
UID:12596-1749835800-1749839400@insubricahistorica.ch
SUMMARY:Finissage Mostra "Muralto Ieri" 13.6.2025/17:30 Cà Rossa Muralto
DESCRIPTION:Non perdete il finissage della mostra fotografica “Muralto ieri – 100 anni in 100 immagini” venerdì 13 giugno 2025 alle ore 17:30 presso Cà Rossa in via Stazione 6 a Muralto. \nL’esposizione\, curata da Marco Garbani Nerini\, offre una straordinaria raccolta di immagini storiche provenienti dagli archivi familiari e dei Fratelli Büchi. Dai vecchi tram all’alluvione del 1931\, dal Grand Hotel al viale Cattori\, queste fotografie documentano l’evoluzione di Muralto attraverso un secolo. \nLa mostra\, promossa da Muralto per tutti e sostenuta dal Comune\, è un’occasione unica per riscoprire le radici del territorio locale. \nLa storia di Foto Garbani è un affascinante viaggio attraverso quasi cento anni di evoluzione fotografica\, un’avventura familiare che ha saputo adattarsi ai cambiamenti tecnologici mantenendo intatta la passione per l’immagine. Insubrica Historica ha avuto recentemente la bellissima occasione di passare del tempo consultando l’archivio fotografico di Foto Garbani. Prendiamo spunto da questo incontro per ripercorrere insieme le tappe principali di questa straordinaria avventura imprenditoriale locarnese. \nDa quasi cent’anni\, Foto Garbani rappresenta un’icona dell’imprenditoria ticinese nel settore fotografico. Tutto iniziò nel 1925 con Camilla Garbani Nerini\, una donna anticonformista che seguì la sua passione per la fotografia lavorando presso lo studio Steinemann di Locarno\, dove incontrò il futuro marito Walter Steck. \nIl 1 aprile 1928\, insieme al fratello Marco\, la coppia aprì “Foto Steck” a Muralto. Mentre Walter e Camilla si trasferirono a Zurigo nel 1936\, Marco senior gestì il negozio ticinese\, innovando con cartoline illustrate grazie alla fotorotativa meccanica inventata dal cognato. \nNel dopoguerra l’azienda cambiò nome in Foto Garbani e avviò uno dei primi servizi di sviluppo per corrispondenza in Svizzera. Gli anni ’60 portarono il colore\, con un laboratorio artigianale a Orselina\, mentre Marco junior entrò in azienda nel 1963\, affrontando l’avvento dell’elettronica. \nMarco Garbani Junior classe 1948\, iniziatore della bellissima mostra fotografica “Muralto ieri”. Fonte: Insubrica Historica\nDopo la morte di Marco senior nel 1976\, il figlio Marco Garbani Junior prese il timone\, seguito dal fratello Luca nel 1979. Attraverso sette decenni di evoluzione tecnologica – dalle cartoline in bianco e nero ai formati digitali – Foto Garbani ha dimostrato come la passione\, unita alla capacità di rinnovarsi\, possa trasformare una piccola attività in un’impresa centenaria.
URL:https://insubricahistorica.ch/events/finissage-mostra-muralto-ieri-13-6-2025-1730-ca-rossa-muralto/
LOCATION:Cà Rossa\, Muralto\, Via Stazione 6\, Muralto\, Ticino\, 6600\, Switzerland
CATEGORIES:Event
ATTACH;FMTTYPE=image/webp:https://insubricahistorica.ch/wp-content/uploads/2025/06/Garbani-Mostra-Muralto-Insubrica-Historica.webp
ORGANIZER;CN="Foto Garbani Muralto":MAILTO:info@fotogarbani.ch
END:VEVENT
END:VCALENDAR