BEGIN:VCALENDAR
VERSION:2.0
PRODID:-//Insubrica Historica - ECPv6.15.20//NONSGML v1.0//EN
CALSCALE:GREGORIAN
METHOD:PUBLISH
X-WR-CALNAME:Insubrica Historica
X-ORIGINAL-URL:https://insubricahistorica.ch
X-WR-CALDESC:Events for Insubrica Historica
REFRESH-INTERVAL;VALUE=DURATION:PT1H
X-Robots-Tag:noindex
X-PUBLISHED-TTL:PT1H
BEGIN:VTIMEZONE
TZID:Europe/Paris
BEGIN:DAYLIGHT
TZOFFSETFROM:+0100
TZOFFSETTO:+0200
TZNAME:CEST
DTSTART:20240331T010000
END:DAYLIGHT
BEGIN:STANDARD
TZOFFSETFROM:+0200
TZOFFSETTO:+0100
TZNAME:CET
DTSTART:20241027T010000
END:STANDARD
BEGIN:DAYLIGHT
TZOFFSETFROM:+0100
TZOFFSETTO:+0200
TZNAME:CEST
DTSTART:20250330T010000
END:DAYLIGHT
BEGIN:STANDARD
TZOFFSETFROM:+0200
TZOFFSETTO:+0100
TZNAME:CET
DTSTART:20251026T010000
END:STANDARD
BEGIN:DAYLIGHT
TZOFFSETFROM:+0100
TZOFFSETTO:+0200
TZNAME:CEST
DTSTART:20260329T010000
END:DAYLIGHT
BEGIN:STANDARD
TZOFFSETFROM:+0200
TZOFFSETTO:+0100
TZNAME:CET
DTSTART:20261025T010000
END:STANDARD
END:VTIMEZONE
BEGIN:VEVENT
DTSTART;TZID=Europe/Paris:20250727T133000
DTEND;TZID=Europe/Paris:20250727T163000
DTSTAMP:20260425T183749
CREATED:20250718T134647Z
LAST-MODIFIED:20250816T121954Z
UID:14688-1753623000-1753633800@insubricahistorica.ch
SUMMARY:27.7.2025/13:30 Loco - Literarischer Nachmittag in Onsernone: Auf den Spuren Alfred Anderschs
DESCRIPTION:Am Sonntag 27. Juli 2025 lädt das malerische Bergdorf Loco im Valle Onsernone zu einem besonderen literarischen Ereignis ein. Bei Annette Korolnik und Alexander Grass findet ein Nachmittag statt\, der sich den Briefwechseln des bedeutenden deutschen Nachkriegsautors Alfred Andersch widmet – eine Veranstaltung\, die nicht nur durch ihren Inhalt\, sondern auch durch ihren Ort von besonderer Bedeutung ist. \nAlfred a Gisela Andersch. © Annette Korolnik-Andersch\, Loco\nAlfred Hellmuth Andersch (1914-1980) gehört zu den prägenden Stimmen der deutschen Nachkriegsliteratur. Als Gründungsmitglied der Gruppe 47\, Rundfunkredakteur und Herausgeber literarischer Zeitschriften formte er die kulturelle Landschaft der jungen Bundesrepublik entscheidend mit. Seine Werke kreisten stets um die zentrale Frage der menschlichen Willensfreiheit – ein Thema\, das er aus seiner eigenen Lebenserfahrung schöpfte. In seinem autobiographischen Bericht “Die Kirschen der Freiheit” (1952) verarbeitete er seine Fahnenflucht als existentialistische Entscheidung zur Freiheit. Diese Thematik durchzieht sein gesamtes Werk\, von “Sansibar oder der letzte Grund” über “Die Rote” bis zu “Efraim”. \nDass diese Veranstaltung im Valle Onsernone stattfindet\, ist kein Zufall. Andersch verbrachte seine letzten Lebensjahre in Berzona\, nur wenige Kilometer von Loco entfernt. Das Tessin wurde für ihn zur Wahlheimat\, zu einem Ort der Reflexion und des Schaffens. Die Landschaft des Onsernone-Tals mit ihrer kargen Schönheit findet sich in seinen späten Werken wieder. \nDer literarische Nachmittag\, der von 13:30 bis 16:30 Uhr dauert\, verspricht tiefe Einblicke in Anderschs persönliche und literarische Beziehungen. Die Anwesenheit von Annette Korolnik Andersch\, Künstlerin und Tochter des Schriftstellers\, verleiht der Veranstaltung eine besondere und persönliche Note. \nDie Veranstaltung findet in deutscher Sprache statt\, wobei für Essen und Trinken gesorgt ist. Der Veranstaltungsort Rossa\, ein Ortsteil von Loco ohne Strassenanschluss\, ist nur über einen Wanderweg erreichbar – eine Abgeschiedenheit\, die Andersch selbst geschätzt hätte. Die Anreise erfolgt idealerweise mit dem Post-Auto von Locarno nach Loco Chiesa. \nDieser literarische Nachmittag bietet eine seltene Gelegenheit\, sich intensiv mit dem Werk und den persönlichen Beziehungen eines Autors auseinanderzusetzen\, der die deutsche Literatur nachhaltig prägte. In der Abgeschiedenheit des Onsernone-Tals\, wo Andersch seine letzten Jahre verbrachte\, werden seine Briefe und Gedanken wieder lebendig – ein Dialog zwischen Vergangenheit und Gegenwart\, zwischen Literatur und Leben. \nFlyer der Veranstaltung
URL:https://insubricahistorica.ch/events/literarischer-nachmittag-in-loco-auf-den-spuren-alfred-anderschs/
LOCATION:Contact
CATEGORIES:Event
ATTACH;FMTTYPE=image/webp:https://insubricahistorica.ch/wp-content/uploads/2025/07/Andersch_Flyer-Insubrica-Historica.webp
END:VEVENT
END:VCALENDAR