BEGIN:VCALENDAR
VERSION:2.0
PRODID:-//Insubrica Historica - ECPv6.15.20//NONSGML v1.0//EN
CALSCALE:GREGORIAN
METHOD:PUBLISH
X-WR-CALNAME:Insubrica Historica
X-ORIGINAL-URL:https://insubricahistorica.ch
X-WR-CALDESC:Events for Insubrica Historica
REFRESH-INTERVAL;VALUE=DURATION:PT1H
X-Robots-Tag:noindex
X-PUBLISHED-TTL:PT1H
BEGIN:VTIMEZONE
TZID:UTC
BEGIN:STANDARD
TZOFFSETFROM:+0000
TZOFFSETTO:+0000
TZNAME:UTC
DTSTART:20180101T000000
END:STANDARD
END:VTIMEZONE
BEGIN:VEVENT
DTSTART;TZID=UTC:20190504T090000
DTEND;TZID=UTC:20190504T120000
DTSTAMP:20260422T203541
CREATED:20190321T035213Z
LAST-MODIFIED:20190321T035213Z
UID:5777-1556960400-1556971200@insubricahistorica.ch
SUMMARY:Private tour of Locarno region sites in the first and second world war's
DESCRIPTION:Having survived two world wars\, Locarno and its surroundings are steeped in military history. Visitors hoping to learn more about wartime Switzerland at the border with Northern Italy will find fascinating historical sites right in the region. \nThis private tour offers a picks for the best military sites in the region. The short tour will combine visits on sites as well as a brief historical introduction on the period. \nPicture left: portrayal of the Swiss troops in September 1939 in the southern front. In Ticino mainly the Grenzbrigade 9 (Border Brigate 9) on the left – in Wallis\, the Gebirgsbrigade 10. Copyright: E-Periodica\, Standorte Karte der Armee. \nContent of the tour: \n\nIntroduction\nFirst World War sites (Locarnese forts defense line)\nThe period in between (Locarno Peace Treaty 1925)\nSecond World War sites (defense line\, Operation Sunrise\, partisan sites)\nEpilogue
URL:https://insubricahistorica.ch/events/private-tour-of-locarno-region-venues-in-the-first-and-second-world-wars/
LOCATION:Minusio\, Via Mondacce 56\, Minusio\, Ticino\, 6648\, Switzerland
ORGANIZER;CN="Insubrica Historica":MAILTO:info@insubricahistorica.ch
END:VEVENT
END:VCALENDAR