BEGIN:VCALENDAR
VERSION:2.0
PRODID:-//Insubrica Historica - ECPv6.15.20//NONSGML v1.0//EN
CALSCALE:GREGORIAN
METHOD:PUBLISH
X-WR-CALNAME:Insubrica Historica
X-ORIGINAL-URL:https://insubricahistorica.ch
X-WR-CALDESC:Events for Insubrica Historica
REFRESH-INTERVAL;VALUE=DURATION:PT1H
X-Robots-Tag:noindex
X-PUBLISHED-TTL:PT1H
BEGIN:VTIMEZONE
TZID:Europe/Paris
BEGIN:DAYLIGHT
TZOFFSETFROM:+0100
TZOFFSETTO:+0200
TZNAME:CEST
DTSTART:20240331T010000
END:DAYLIGHT
BEGIN:STANDARD
TZOFFSETFROM:+0200
TZOFFSETTO:+0100
TZNAME:CET
DTSTART:20241027T010000
END:STANDARD
BEGIN:DAYLIGHT
TZOFFSETFROM:+0100
TZOFFSETTO:+0200
TZNAME:CEST
DTSTART:20250330T010000
END:DAYLIGHT
BEGIN:STANDARD
TZOFFSETFROM:+0200
TZOFFSETTO:+0100
TZNAME:CET
DTSTART:20251026T010000
END:STANDARD
BEGIN:DAYLIGHT
TZOFFSETFROM:+0100
TZOFFSETTO:+0200
TZNAME:CEST
DTSTART:20260329T010000
END:DAYLIGHT
BEGIN:STANDARD
TZOFFSETFROM:+0200
TZOFFSETTO:+0100
TZNAME:CET
DTSTART:20261025T010000
END:STANDARD
END:VTIMEZONE
BEGIN:VEVENT
DTSTART;TZID=Europe/Paris:20250322T000000
DTEND;TZID=Europe/Paris:20250322T013000
DTSTAMP:20260425T184155
CREATED:20250211T062030Z
LAST-MODIFIED:20250812T035352Z
UID:12078-1742601600-1742607000@insubricahistorica.ch
SUMMARY:"RESPINTI - Il dramma della famiglia ebrea Gruenberger" Presentazione libraria di Insubrica Historica
DESCRIPTION:La presentazione del libro “Respinti. Il dramma della famiglia ebrea Gruenberger” si terrà sabato 22 marzo 2025 alle ore 12:00 presso la Residenza San Vittore a Muralto\, a pochi passi dalla stazione FFS. \nNel settembre 1943\, l’occupazione tedesca del Nord Italia sconvolge la vita della famiglia ebrea Gruenberger\, residente a Fiume (oggi Rijeka Croazia). Costretti a una fuga disperata attraverso l’Italia occupata\, i Gruenberger raggiungono Brissago il 17 dicembre 1943. In quel freddo giorno d’inverno\, solo Edith\, giovane e incinta\, ottiene il permesso di rifugiarsi in Svizzera. Gli altri quattro familiari vengono respinti alla frontiera e immediatamente catturati dalle forze tedesche. \nLa famiglia Gruenberger in una foto del 1910\, probabilmente presa in Boemia dove risiedevano fino all’inizio della Prima Guerra Mondiale. Nei cerchi\, le persone respinte a Brissago il 17.12.1943. Il cerchio rosso sono le persone trasportate e uccise probabilmente ad Auschwitz (da sx Erico\, Regina e Adele Horitzky)\, nel cerchio verde invece Egone Gruenberger\, che riesce a salvarsi gettandosi dal treno a sud di Verona.\nIl destino si accanisce contro la famiglia quando\, il 30 gennaio 1944\, un treno merci li deporta da Milano al campo di sterminio di Auschwitz. In questa tragedia\, emerge una storia di straordinaria resilienza: Egone\, il marito di Edith\, riesce miracolosamente a sfuggire alla deportazione. Il 19 febbraio 1944\, dopo un’avventurosa fuga\, raggiunge la salvezza a Spruga\, in Valle Onsernone. \nQuesta vicenda\, unica nel suo genere\, testimonia il coraggio e la speranza di fronte all’orrore della guerra. Nel giugno 2024\, il “Gruppo per la Memoria a Brissago 1943-1945”\, insieme al Municipio di Brissago\, ha onorato la memoria della famiglia con l’installazione di una targa commemorativa e quattro pietre d’inciampo. \nLe quattro pietre d’inciampo posate al vecchio porto di Brissago.\nLa presentazione offrirà l’opportunità di approfondire questo capitolo cruciale della nostra storia locale\, che si intreccia con i drammatici eventi della Seconda Guerra Mondiale. \nDownload Flyer presentazione pubblicazione Respinti Sabato 22.03.2025 Festivallibro Muralto
URL:https://insubricahistorica.ch/events/respinti-il-dramma-della-famiglia-ebrea-gruenberger-presentazione-libraria-di-insubrica-historica/
LOCATION:FestivaLLibro Muralto\, Via S. Vittore 5\, Muralto\, Ticino\, 6600\, Switzerland
CATEGORIES:Event
ATTACH;FMTTYPE=image/webp:https://insubricahistorica.ch/wp-content/uploads/2025/02/Gruenberger-Flyer-220325-Festivallibro-Insubrica-Historica.webp
ORGANIZER;CN="FestivaLLibro":MAILTO:festivallibro@muralto.ch
END:VEVENT
END:VCALENDAR