BEGIN:VCALENDAR
VERSION:2.0
PRODID:-//Insubrica Historica - ECPv6.15.20//NONSGML v1.0//EN
CALSCALE:GREGORIAN
METHOD:PUBLISH
X-WR-CALNAME:Insubrica Historica
X-ORIGINAL-URL:https://insubricahistorica.ch
X-WR-CALDESC:Events for Insubrica Historica
REFRESH-INTERVAL;VALUE=DURATION:PT1H
X-Robots-Tag:noindex
X-PUBLISHED-TTL:PT1H
BEGIN:VTIMEZONE
TZID:Europe/Paris
BEGIN:DAYLIGHT
TZOFFSETFROM:+0100
TZOFFSETTO:+0200
TZNAME:CEST
DTSTART:20240331T010000
END:DAYLIGHT
BEGIN:STANDARD
TZOFFSETFROM:+0200
TZOFFSETTO:+0100
TZNAME:CET
DTSTART:20241027T010000
END:STANDARD
BEGIN:DAYLIGHT
TZOFFSETFROM:+0100
TZOFFSETTO:+0200
TZNAME:CEST
DTSTART:20250330T010000
END:DAYLIGHT
BEGIN:STANDARD
TZOFFSETFROM:+0200
TZOFFSETTO:+0100
TZNAME:CET
DTSTART:20251026T010000
END:STANDARD
BEGIN:DAYLIGHT
TZOFFSETFROM:+0100
TZOFFSETTO:+0200
TZNAME:CEST
DTSTART:20260329T010000
END:DAYLIGHT
BEGIN:STANDARD
TZOFFSETFROM:+0200
TZOFFSETTO:+0100
TZNAME:CET
DTSTART:20261025T010000
END:STANDARD
END:VTIMEZONE
BEGIN:VEVENT
DTSTART;TZID=Europe/Paris:20250412T163000
DTEND;TZID=Europe/Paris:20250412T190000
DTSTAMP:20260423T103440
CREATED:20250313T154240Z
LAST-MODIFIED:20250812T035218Z
UID:12267-1744475400-1744484400@insubricahistorica.ch
SUMMARY:Un paltò fuori stagione a Milano: 12 aprile 2025 16:30
DESCRIPTION:La voce che dà vita alla storia: Graziano Giacometti interprete di “Un paltò fuori stagione”\nDopo il notevole successo editoriale del 2024\, che ha visto “Un paltò fuori stagione” conquistare il terzo posto tra i libri più venduti presso la rinomata Libreria Alberti di Verbania\, il voice actor Graziano Giacometti torna a prestare la sua voce al racconto di Carlo Bava in un evento imperdibile questo aprile. \nGraziano Giacometti a Villadossola il 24 aprile 2024\, impegnato nella lettura del lavoro di Carlo Bava. Fonte: Insubrica Historica.\nIl prossimo appuntamento con questa emozionante narrazione è fissato per sabato 12 aprile 2025 alle 16:30 presso la Cascina Cuccagna di Milano\, dove l’autore Carlo Bava e il voice actor Graziano Giacometti guideranno il pubblico in un viaggio nella memoria storica che non possiamo permetterci di dimenticare. \nL’arte di dare voce alla storia\nCiò che rende particolarmente notevole questa presentazione è la capacità interpretativa di Graziano Giacometti. La sua voce va ben oltre essere il semplice strumento di narrazione\, ma diventa invece un ponte emotivo che collega il pubblico agli eventi drammatici dell’autunno 1944\, quando i rastrellamenti nazi-fascisti sconvolsero le sponde del Lago Maggiore e i sentieri svizzeri. \nDelfino Bava\, il protagonista del romanzo storico di Carlo Bava. Fonte: Insubrica Historica e Archivio Federale Berna.\nGiacometti possiede quella rara abilità di trasformare le parole stampate in esperienze viscerali. Quando dà voce ai protagonisti che cercarono disperatamente di sopravvivere in uno dei momenti più bui della nostra storia\, le sue modulazioni vocali riescono a evocare l’angoscia\, la paura\, ma anche il coraggio e la speranza che animavano quelle vite intrecciate con il destino di un’intera nazione. \nUna sinergia perfetta\nLa collaborazione tra Carlo Bava\, autore del testo\, e Graziano Giacometti ha creato una sinergia perfetta che amplifica l’impatto emotivo del racconto. Mentre Bava ha saputo intrecciare con maestria le vicende individuali con il contesto storico più ampio\, Giacometti riesce a far risuonare l’eco di quei tragici eventi fino ai giorni nostri. \nRaro documento custodito presso l’ANPI Villadossola\, riguardante la rioccupazione fascista della Zona Libera Ossola nell’ottobre 1944. Il firmatario Prefetto Enrico Vezzalini verrà condannato a morte nel settembre 1945 dall’allora Publico Ministero Oscar Luigi Scalfaro. Fonte: ANPI Villadossola.\nIl successo ottenuto nel 2024 testimonia quanto questa formula sia efficace: la profondità della ricerca storica e della narrazione di Bava\, unita alla potenza interpretativa di Giacometti\, ha toccato profondamente i lettori\, portando “Un paltò fuori stagione” a distinguersi come uno dei libri più apprezzati del 2024 presso la Libreria Alberti. \nLa cover di Un paltò fuori stagione\, edito da Insubrica Historica.\nUn’esperienza immersiva\nChi parteciperà all’evento del 12 aprile potrà vivere un’esperienza immersiva\, dove le parole e le voci permetteranno di rivivere il dramma di chi cercò di sopravvivere durante i rastrellamenti. Attraverso l’interpretazione di Giacometti\, le storie di resistenza\, coraggio e umanità prenderanno vita\, creando quel legame emotivo che rende la storia non solo un insieme di fatti da apprendere\, ma un’esperienza da sentire. \nLa capacità di Giacometti di modulare tono\, ritmo e intensità della sua voce trasforma la narrazione in un viaggio sensoriale\, dove ogni personaggio acquisisce una dimensione unica e ogni evento storico si carica di significato personale. \nPer chi desidera partecipare a questo importante evento culturale\, l’appuntamento è alla Cascina Cuccagna\, Via Cuccagna 2/4\, Milano. Ulteriori informazioni sono disponibili contattando Insubrica Historica al +41792926903 o via email a info@insubricahistorica.ch. \nDownload Flyer Presentazione Cascina Cuccagna Milano
URL:https://insubricahistorica.ch/events/un-palto-fuori-stagione-a-milano-12-aprile-2025-1630/
LOCATION:Cascina Cuccagna – 20135 Milano\, Via Cuccagna 2/4\, Milano\, Milano\, 20135\, Italy
CATEGORIES:Event
ATTACH;FMTTYPE=image/webp:https://insubricahistorica.ch/wp-content/uploads/2025/03/Cuccagna-Flyer-Cover-Milano-120425.webp
ORGANIZER;CN="Cascina Cuccagna%2C Milano":MAILTO:info@cuccagna.org
END:VEVENT
END:VCALENDAR